Workbook
Name Sizes: lookups!$A$1:$B$18

Sheet Complian_example
D1: Black font | E1: Original text/data from exported dbf file | I1: Size | J1: Size Value | L1: PctCvr_L_D | M1: Mid-point
D2: Red font | E2: Table/text to be inserted | I2: 0.00025; sq meter | J2: 0.00025 | L2: <1% | M2: 0.005
D3: Blue font | E3: Values calculated from lookup formula | I3: 0.0005; 1 lg desk | J3: 0.0005 | L3: >95% | M3: 0.975
D4: Purple font | E4: Values calculated from multipying two values in table | I4: 0.001;2 lg desk | J4: 0.001 | L4: 0% | M4: 0
D5: Gold font | E5: Values summed in across a column | I5: 0.01;2 car garage | J5: 0.01 | L5: 1-5% | M5: 0.03
D6: Green font | E6: Percentages/counts summarizing data | I6: 0.1;bball ct | J6: 0.1 | L6: 26-50% | M6: 0.375
I7: 0.25;4 tennis ct | J7: 0.25 | L7: 51-75% | M7: 0.625
I8: 0.5;half fball field | J8: 0.5 | L8: 6-25% | M8: 0.15
I9: 1.0;fball field | J9: 1 | L9: 76-95% | M9: 0.85
I10: 2 | J10: 2
I11: 3 | J11: 3
I12: 4 | J12: 4
I13: 5 | J13: 5
I14: 6 | J14: 6
I15: 7 | J15: 7
I16: 8 | J16: 8
I17: 9 | J17: 9
I18: 10 | J18: 10
I19: Other (in Comments) | J19: -999
A21: Field_ID | B21: SurveyDate | C21: Surveyor | D21: surveysite | E21: Species | F21: Feat_Type | G21: Live_dead | H21: Tx_Attempt | I21: Size | J21: Size Value | K21: NatSppEst | L21: PctCvr_L_D | M21: % b4 | N21: Ac b4 | O21: PctCvr_L | P21: % aft | Q21: Ac aft | R21: Distributn | S21: Phenology | T21: FNAI_NC | U21: eval_type | V21: Photo_Info | W21: Comments | X21: Northing | Y21: Easting
A22: 1 | B22: 43920 | C22: Sowell, Dexter | D22: FPP | E22: Schinus terebinthifo | F22: Point | G22: Dead | H22: Yes | I22: 0.00025; sq meter | J22: =LOOKUP(I22,$I$2:$I$19,$J$2:$J$19) -> 0.00025 | K22: 6 | L22: 26-50% | M22: =LOOKUP(L22,$L$2:$L$9,$M$2:$M$9) -> 0.375 | N22: =(J22)*(M22) -> 9.375e-05 | O22: 0% | P22: =LOOKUP(O22,$L$2:$L$9,$M$2:$M$9) -> 0 | Q22: =(J22)*(P22) -> 0 | R22: Single plant/clump | S22: ZZ | T22: strand swamp | U22: initial | V22: 1336 | W22: confirm strand swanp | X22: 284697.41 | Y22: 621546.13
A23: 2 | B23: 43920 | C23: Sowell, Dexter | D23: FPP | E23: Solanum tampicense | F23: Point | G23: Live | H23: No | I23: 0.001;2 lg desk | J23: =LOOKUP(I23,$I$2:$I$19,$J$2:$J$19) -> 0.001 | K23: 10 | L23: 6-25% | M23: =LOOKUP(L23,$L$2:$L$9,$M$2:$M$9) -> 0.15 | N23: =(J23)*(M23) -> 0.00015 | O23: 0% | P23: =LOOKUP(O23,$L$2:$L$9,$M$2:$M$9) -> 0 | Q23: =(J23)*(P23) -> 0 | R23: Scattered plants | S23: ZZ | T23: strand swamp | U23: initial | V23: 1336 | W23: move pt south, forgot to close pt | X23: 284792.09 | Y23: 621388.57
A24: 3 | B24: 43920 | C24: Sowell, Dexter | D24: FPP | E24: Schinus terebinthifo | F24: Point | G24: Live | H24: Yes | I24: 0.1;bball ct | J24: =LOOKUP(I24,$I$2:$I$19,$J$2:$J$19) -> 0.1 | K24: 12 | L24: 51-75% | M24: =LOOKUP(L24,$L$2:$L$9,$M$2:$M$9) -> 0.625 | N24: =(J24)*(M24) -> 0.0625 | O24: 0% | P24: =LOOKUP(O24,$L$2:$L$9,$M$2:$M$9) -> 0 | Q24: =(J24)*(P24) -> 0 | R24: Dominant cover | S24: ZZ | T24: strand swamp | U24: initial | V24: 1410 | X24: 284904.03 | Y24: 621401.33
A25: 4 | B25: 43920 | C25: Sowell, Dexter | D25: FPP | E25: Lygodium microphyllu | F25: Point | G25: Live | H25: No | I25: 0.00025; sq meter | J25: =LOOKUP(I25,$I$2:$I$19,$J$2:$J$19) -> 0.00025 | K25: 4 | L25: 1-5% | M25: =LOOKUP(L25,$L$2:$L$9,$M$2:$M$9) -> 0.03 | N25: =(J25)*(M25) -> 7.5e-06 | O25: 0% | P25: =LOOKUP(O25,$L$2:$L$9,$M$2:$M$9) -> 0 | Q25: =(J25)*(P25) -> 0 | R25: Single plant/clump | S25: ZZ | T25: strand swamp | U25: initial | V25: 1410,1418 | W25: missed little plant | X25: 284916.37 | Y25: 621401.4
A26: 5 | B26: 43920 | C26: Sowell, Dexter | D26: FPP | E26: Lygodium microphyllu | F26: Point | G26: Live | H26: No | I26: 0.00025; sq meter | J26: =LOOKUP(I26,$I$2:$I$19,$J$2:$J$19) -> 0.00025 | K26: 6 | L26: 6-25% | M26: =LOOKUP(L26,$L$2:$L$9,$M$2:$M$9) -> 0.15 | N26: =(J26)*(M26) -> 3.75e-05 | O26: 0% | P26: =LOOKUP(O26,$L$2:$L$9,$M$2:$M$9) -> 0 | Q26: =(J26)*(P26) -> 0 | R26: Single plant/clump | S26: ZZ | T26: strand swamp | U26: initial | V26: 1422 | W26: missed little plant | X26: 284910.3 | Y26: 621433.69
A27: 6 | B27: 43920 | C27: Sowell, Dexter | D27: FPP | E27: Solanum tampicense | F27: Point | G27: Live | H27: No | I27: 0.001;2 lg desk | J27: =LOOKUP(I27,$I$2:$I$19,$J$2:$J$19) -> 0.001 | K27: 6 | L27: 1-5% | M27: =LOOKUP(L27,$L$2:$L$9,$M$2:$M$9) -> 0.03 | N27: =(J27)*(M27) -> 3e-05 | O27: 0% | P27: =LOOKUP(O27,$L$2:$L$9,$M$2:$M$9) -> 0 | Q27: =(J27)*(P27) -> 0 | R27: Scattered plants | S27: ZZ | T27: strand swamp | U27: initial | V27: 1424-2 | X27: 284908.07 | Y27: 621430.98
A28: 7 | B28: 43920 | C28: Sowell, Dexter | D28: FPP | E28: Solanum tampicense | F28: Point | G28: Live | H28: No | I28: 0.0005; 1 lg desk | J28: =LOOKUP(I28,$I$2:$I$19,$J$2:$J$19) -> 0.0005 | K28: 5 | L28: 6-25% | M28: =LOOKUP(L28,$L$2:$L$9,$M$2:$M$9) -> 0.15 | N28: =(J28)*(M28) -> 7.5e-05 | O28: 6-25% | P28: =LOOKUP(O28,$L$2:$L$9,$M$2:$M$9) -> 0.15 | Q28: =(J28)*(P28) -> 7.5e-05 | R28: Single plant/clump | S28: ZZ | T28: strand swamp | U28: initial | V28: 1427 | W28: correct previous CCs | X28: 284916.04 | Y28: 621441.3
A29: 8 | B29: 43920 | C29: Sowell, Dexter | D29: FPP | E29: Solanum tampicense | F29: Point | G29: Live | H29: Unknown | I29: 0.0005; 1 lg desk | J29: =LOOKUP(I29,$I$2:$I$19,$J$2:$J$19) -> 0.0005 | K29: 8 | L29: 26-50% | M29: =LOOKUP(L29,$L$2:$L$9,$M$2:$M$9) -> 0.375 | N29: =(J29)*(M29) -> 0.0001875 | O29: 6-25% | P29: =LOOKUP(O29,$L$2:$L$9,$M$2:$M$9) -> 0.15 | Q29: =(J29)*(P29) -> 7.5e-05 | R29: Single plant/clump | S29: ZZ | T29: strand swamp | U29: initial | V29: 1434 | W29: partially dead end of one stem | X29: 284999.33 | Y29: 621488.93
A30: 9 | B30: 43920 | C30: Sowell, Dexter | D30: FPP | E30: Lygodium microphyllu | F30: Point | G30: Live | H30: Yes | I30: 0.001;2 lg desk | J30: =LOOKUP(I30,$I$2:$I$19,$J$2:$J$19) -> 0.001 | K30: 8 | L30: 26-50% | M30: =LOOKUP(L30,$L$2:$L$9,$M$2:$M$9) -> 0.375 | N30: =(J30)*(M30) -> 0.000375 | O30: <1% | P30: =LOOKUP(O30,$L$2:$L$9,$M$2:$M$9) -> 0.005 | Q30: =(J30)*(P30) -> 5e-06 | R30: Dominant cover | S30: ZZ | T30: strand swamp | U30: initial | V30: 1437-2 | W30: excellent poodle cut; just resproutiing | X30: 285006.9 | Y30: 621486.68
A31: 10 | B31: 43920 | C31: Sowell, Dexter | D31: FPP | E31: Lygodium microphyllu | F31: Point | G31: Live | H31: Yes | I31: 0.01;2 car garage | J31: =LOOKUP(I31,$I$2:$I$19,$J$2:$J$19) -> 0.01 | K31: 10 | L31: 51-75% | M31: =LOOKUP(L31,$L$2:$L$9,$M$2:$M$9) -> 0.625 | N31: =(J31)*(M31) -> 0.00625 | O31: 1-5% | P31: =LOOKUP(O31,$L$2:$L$9,$M$2:$M$9) -> 0.03 | Q31: =(J31)*(P31) -> 0.0003 | R31: Dominant cover | S31: ZZ | T31: strand swamp | U31: initial | V31: 1442ish-2 | W31: txd in 2019, jjust now resprouting | X31: 285026.74 | Y31: 621493.19
A32: 11 | B32: 43920 | C32: Sowell, Dexter | D32: FPP | E32: Syzygium cumini | F32: Point | G32: Live | H32: Yes | I32: 0.0005; 1 lg desk | J32: =LOOKUP(I32,$I$2:$I$19,$J$2:$J$19) -> 0.0005 | K32: 6 | L32: 76-95% | M32: =LOOKUP(L32,$L$2:$L$9,$M$2:$M$9) -> 0.85 | N32: =(J32)*(M32) -> 0.000425 | O32: 6-25% | P32: =LOOKUP(O32,$L$2:$L$9,$M$2:$M$9) -> 0.15 | Q32: =(J32)*(P32) -> 7.5e-05 | R32: Dominant cover | S32: ZZ | T32: strand swamp | U32: initial | V32: 1444-3 | W32: one stem not adequately cut & txd | X32: 285027.42 | Y32: 621502.83
A33: 12 | B33: 43920 | C33: Sowell, Dexter | D33: FPP | E33: Solanum tampicense | F33: Point | G33: Live | H33: No | I33: 0.00025; sq meter | J33: =LOOKUP(I33,$I$2:$I$19,$J$2:$J$19) -> 0.00025 | K33: 5 | L33: 6-25% | M33: =LOOKUP(L33,$L$2:$L$9,$M$2:$M$9) -> 0.15 | N33: =(J33)*(M33) -> 3.75e-05 | O33: 6-25% | P33: =LOOKUP(O33,$L$2:$L$9,$M$2:$M$9) -> 0.15 | Q33: =(J33)*(P33) -> 3.75e-05 | R33: Scattered plants | S33: ZZ | T33: strand swamp | U33: initial | V33: 1446 | W33: missed runts | X33: 285032.67 | Y33: 621497.03
A34: 13 | B34: 43920 | C34: Sowell, Dexter | D34: FPP | E34: Lygodium microphyllu | F34: Point | G34: Dead | H34: Yes | I34: 0.0005; 1 lg desk | J34: =LOOKUP(I34,$I$2:$I$19,$J$2:$J$19) -> 0.0005 | K34: 9 | L34: 26-50% | M34: =LOOKUP(L34,$L$2:$L$9,$M$2:$M$9) -> 0.375 | N34: =(J34)*(M34) -> 0.0001875 | O34: 0% | P34: =LOOKUP(O34,$L$2:$L$9,$M$2:$M$9) -> 0 | Q34: =(J34)*(P34) -> 0 | R34: Single plant/clump | S34: ZZ | T34: strand swamp | U34: initial | V34: 1448 | X34: 285043.81 | Y34: 621503.11
A35: 14 | B35: 43920 | C35: Sowell, Dexter | D35: FPP | E35: Schinus terebinthifo | F35: Point | G35: Dead | H35: Yes | I35: 0.01;2 car garage | J35: =LOOKUP(I35,$I$2:$I$19,$J$2:$J$19) -> 0.01 | K35: 12 | L35: 51-75% | M35: =LOOKUP(L35,$L$2:$L$9,$M$2:$M$9) -> 0.625 | N35: =(J35)*(M35) -> 0.00625 | O35: 0% | P35: =LOOKUP(O35,$L$2:$L$9,$M$2:$M$9) -> 0 | Q35: =(J35)*(P35) -> 0 | R35: Dominant cover | S35: ZZ | T35: Abandoned field/past | U35: initial | V35: 1501 | W35: verify NC | X35: 285054.47 | Y35: 621588.67
A36: 15 | B36: 43920 | C36: Sowell, Dexter | D36: FPP | E36: Acacia auriculiformi | F36: Point | G36: Dead | H36: Yes | I36: 0.0005; 1 lg desk | J36: =LOOKUP(I36,$I$2:$I$19,$J$2:$J$19) -> 0.0005 | K36: 5 | L36: 26-50% | M36: =LOOKUP(L36,$L$2:$L$9,$M$2:$M$9) -> 0.375 | N36: =(J36)*(M36) -> 0.0001875 | O36: 0% | P36: =LOOKUP(O36,$L$2:$L$9,$M$2:$M$9) -> 0 | Q36: =(J36)*(P36) -> 0 | R36: Single plant/clump | S36: ZZ | T36: Abandoned field/past | U36: initial | V36: 1503 | X36: 285064.1 | Y36: 621600.39
A37: 16 | B37: 43920 | C37: Sowell, Dexter | D37: FPP | E37: Syzygium cumini | F37: Point | G37: Live | H37: No | I37: 0.0005; 1 lg desk | J37: =LOOKUP(I37,$I$2:$I$19,$J$2:$J$19) -> 0.0005 | K37: 6 | L37: 26-50% | M37: =LOOKUP(L37,$L$2:$L$9,$M$2:$M$9) -> 0.375 | N37: =(J37)*(M37) -> 0.0001875 | O37: 26-50% | P37: =LOOKUP(O37,$L$2:$L$9,$M$2:$M$9) -> 0.375 | Q37: =(J37)*(P37) -> 0.0001875 | R37: Single plant/clump | S37: ZZ | T37: Abandoned field/past | U37: initial | V37: 1505 | X37: 285069.65 | Y37: 621604.48
A38: 17 | B38: 43920 | C38: Sowell, Dexter | D38: FPP | E38: Melaleuca quinquener | F38: Point | G38: Live | H38: Yes | I38: 0.01;2 car garage | J38: =LOOKUP(I38,$I$2:$I$19,$J$2:$J$19) -> 0.01 | K38: 15 | L38: 6-25% | M38: =LOOKUP(L38,$L$2:$L$9,$M$2:$M$9) -> 0.15 | N38: =(J38)*(M38) -> 0.0015 | O38: <1% | P38: =LOOKUP(O38,$L$2:$L$9,$M$2:$M$9) -> 0.005 | Q38: =(J38)*(P38) -> 5e-05 | R38: Scattered plants | S38: ZZ | T38: Abandoned field/past | U38: initial | V38: 1508 | W38: same NC?; resprouting barely | X38: 285078.81 | Y38: 621599.24
A39: 18 | B39: 43920 | C39: Sowell, Dexter | D39: FPP | E39: Lygodium microphyllu | F39: Point | G39: Dead | H39: Yes | I39: 0.00025; sq meter | J39: =LOOKUP(I39,$I$2:$I$19,$J$2:$J$19) -> 0.00025 | K39: 2 | L39: 51-75% | M39: =LOOKUP(L39,$L$2:$L$9,$M$2:$M$9) -> 0.625 | N39: =(J39)*(M39) -> 0.00015625 | O39: 0% | P39: =LOOKUP(O39,$L$2:$L$9,$M$2:$M$9) -> 0 | Q39: =(J39)*(P39) -> 0 | R39: Single plant/clump | S39: ZZ | T39: Abandoned field/past | U39: initial | V39: 1510 | X39: 285091.27 | Y39: 621606.71
A40: 19 | B40: 43920 | C40: Sowell, Dexter | D40: FPP | E40: Lygodium microphyllu | F40: Point | G40: Live | H40: Yes | I40: 0.01;2 car garage | J40: =LOOKUP(I40,$I$2:$I$19,$J$2:$J$19) -> 0.01 | K40: 10 | L40: 26-50% | M40: =LOOKUP(L40,$L$2:$L$9,$M$2:$M$9) -> 0.375 | N40: =(J40)*(M40) -> 0.00375 | O40: <1% | P40: =LOOKUP(O40,$L$2:$L$9,$M$2:$M$9) -> 0.005 | Q40: =(J40)*(P40) -> 5e-05 | R40: Scattered plants | S40: ZZ | T40: Abandoned field/past | U40: initial | V40: 1517 | W40: resprouting lower left | X40: 285111.97 | Y40: 621578.29
A41: 20 | B41: 43920 | C41: Sowell, Dexter | D41: FPP | E41: Melaleuca quinquener | F41: Point | G41: Dead | H41: Yes | I41: 0.0005; 1 lg desk | J41: =LOOKUP(I41,$I$2:$I$19,$J$2:$J$19) -> 0.0005 | K41: 8 | L41: 26-50% | M41: =LOOKUP(L41,$L$2:$L$9,$M$2:$M$9) -> 0.375 | N41: =(J41)*(M41) -> 0.0001875 | O41: 0% | P41: =LOOKUP(O41,$L$2:$L$9,$M$2:$M$9) -> 0 | Q41: =(J41)*(P41) -> 0 | R41: Scattered plants | S41: ZZ | T41: Abandoned field/past | U41: initial | V41: 1520 | X41: 285110.57 | Y41: 621577.73
A42: 21 | B42: 43920 | C42: Sowell, Dexter | D42: FPP | E42: Melaleuca quinquener | F42: Point | G42: Dead | H42: Yes | I42: 0.0005; 1 lg desk | J42: =LOOKUP(I42,$I$2:$I$19,$J$2:$J$19) -> 0.0005 | K42: 8 | L42: 26-50% | M42: =LOOKUP(L42,$L$2:$L$9,$M$2:$M$9) -> 0.375 | N42: =(J42)*(M42) -> 0.0001875 | O42: 0% | P42: =LOOKUP(O42,$L$2:$L$9,$M$2:$M$9) -> 0 | Q42: =(J42)*(P42) -> 0 | R42: Single plant/clump | S42: ZZ | T42: Abandoned field/past | U42: initial | V42: no | X42: 285128.46 | Y42: 621565.25
A43: 22 | B43: 43920 | C43: Sowell, Dexter | D43: FPP | E43: Solanum tampicense | F43: Point | G43: Live | H43: No | I43: 0.0005; 1 lg desk | J43: =LOOKUP(I43,$I$2:$I$19,$J$2:$J$19) -> 0.0005 | K43: 6 | L43: 6-25% | M43: =LOOKUP(L43,$L$2:$L$9,$M$2:$M$9) -> 0.15 | N43: =(J43)*(M43) -> 7.5e-05 | O43: 6-25% | P43: =LOOKUP(O43,$L$2:$L$9,$M$2:$M$9) -> 0.15 | Q43: =(J43)*(P43) -> 7.5e-05 | R43: Single plant/clump | S43: ZZ | T43: strand swamp | U43: revisit | V43: 1531 | W43: make all pts revisits | X43: 285196.39 | Y43: 621439.64
A44: 23 | B44: 43920 | C44: Sowell, Dexter | D44: FPP | E44: Solanum tampicense | F44: Point | G44: Live | H44: No | I44: 0.0005; 1 lg desk | J44: =LOOKUP(I44,$I$2:$I$19,$J$2:$J$19) -> 0.0005 | K44: 6 | L44: 26-50% | M44: =LOOKUP(L44,$L$2:$L$9,$M$2:$M$9) -> 0.375 | N44: =(J44)*(M44) -> 0.0001875 | O44: 26-50% | P44: =LOOKUP(O44,$L$2:$L$9,$M$2:$M$9) -> 0.375 | Q44: =(J44)*(P44) -> 0.0001875 | R44: Single plant/clump | S44: ZZ | T44: strand swamp | U44: revisit | V44: 1533 | X44: 285203.3 | Y44: 621433.62
A45: 24 | B45: 43920 | C45: Sowell, Dexter | D45: FPP | E45: Solanum tampicense | F45: Point | G45: Live | H45: No | I45: 0.001;2 lg desk | J45: =LOOKUP(I45,$I$2:$I$19,$J$2:$J$19) -> 0.001 | K45: 5 | L45: 26-50% | M45: =LOOKUP(L45,$L$2:$L$9,$M$2:$M$9) -> 0.375 | N45: =(J45)*(M45) -> 0.000375 | O45: 26-50% | P45: =LOOKUP(O45,$L$2:$L$9,$M$2:$M$9) -> 0.375 | Q45: =(J45)*(P45) -> 0.000375 | R45: Single plant/clump | S45: ZZ | T45: strand swamp | U45: revisit | V45: 1540 | X45: 285154.69 | Y45: 621386.82
A46: 25 | B46: 43920 | C46: Sowell, Dexter | D46: FPP | E46: Solanum tampicense | F46: Point | G46: Live | H46: No | I46: 0.001;2 lg desk | J46: =LOOKUP(I46,$I$2:$I$19,$J$2:$J$19) -> 0.001 | K46: 5 | L46: 6-25% | M46: =LOOKUP(L46,$L$2:$L$9,$M$2:$M$9) -> 0.15 | N46: =(J46)*(M46) -> 0.00015 | O46: 6-25% | P46: =LOOKUP(O46,$L$2:$L$9,$M$2:$M$9) -> 0.15 | Q46: =(J46)*(P46) -> 0.00015 | R46: Scattered plants | S46: ZZ | T46: strand swamp | U46: revisit | V46: 1542 | X46: 285121.79 | Y46: 621361.84
A47: 26 | B47: 43920 | C47: Sowell, Dexter | D47: FPP | E47: Solanum tampicense | F47: Point | G47: Live | H47: Yes | I47: 0.1;bball ct | J47: =LOOKUP(I47,$I$2:$I$19,$J$2:$J$19) -> 0.1 | K47: 9 | L47: 51-75% | M47: =LOOKUP(L47,$L$2:$L$9,$M$2:$M$9) -> 0.625 | N47: =(J47)*(M47) -> 0.0625 | O47: <1% | P47: =LOOKUP(O47,$L$2:$L$9,$M$2:$M$9) -> 0.005 | Q47: =(J47)*(P47) -> 0.0005 | R47: Dominant cover | S47: ZZ | T47: strand swamp | U47: revisit | V47: 1545 | W47: all dead but one seedling | X47: 285108.49 | Y47: 621363.57
A48: 27 | B48: 43920 | C48: Sowell, Dexter | D48: FPP | E48: Solanum tampicense | F48: Point | G48: Dead | H48: Yes | I48: 0.01;2 car garage | J48: =LOOKUP(I48,$I$2:$I$19,$J$2:$J$19) -> 0.01 | K48: 6 | L48: 51-75% | M48: =LOOKUP(L48,$L$2:$L$9,$M$2:$M$9) -> 0.625 | N48: =(J48)*(M48) -> 0.00625 | O48: 0% | P48: =LOOKUP(O48,$L$2:$L$9,$M$2:$M$9) -> 0 | Q48: =(J48)*(P48) -> 0 | R48: Dominant cover | S48: ZZ | T48: strand swamp | U48: revisit | V48: 1547 | X48: 285092.13 | Y48: 621367.52
A49: 28 | B49: 43920 | C49: Sowell, Dexter | D49: FPP | E49: Solanum tampicense | F49: Point | G49: Dead | H49: Yes | I49: 0.01;2 car garage | J49: =LOOKUP(I49,$I$2:$I$19,$J$2:$J$19) -> 0.01 | K49: 6 | L49: 26-50% | M49: =LOOKUP(L49,$L$2:$L$9,$M$2:$M$9) -> 0.375 | N49: =(J49)*(M49) -> 0.00375 | O49: 0% | P49: =LOOKUP(O49,$L$2:$L$9,$M$2:$M$9) -> 0 | Q49: =(J49)*(P49) -> 0 | R49: Dominant cover | S49: ZZ | T49: strand swamp | U49: revisit | V49: no | X49: 285083.08 | Y49: 621369.86
A50: 29 | B50: 43920 | C50: Sowell, Dexter | D50: FPP | E50: Schinus terebinthifo | F50: Point | G50: Live | H50: No | I50: 0.001;2 lg desk | J50: =LOOKUP(I50,$I$2:$I$19,$J$2:$J$19) -> 0.001 | K50: 3 | L50: 26-50% | M50: =LOOKUP(L50,$L$2:$L$9,$M$2:$M$9) -> 0.375 | N50: =(J50)*(M50) -> 0.000375 | O50: 26-50% | P50: =LOOKUP(O50,$L$2:$L$9,$M$2:$M$9) -> 0.375 | Q50: =(J50)*(P50) -> 0.000375 | R50: Single plant/clump | S50: ZZ | T50: strand swamp | U50: revisit | V50: 1610 | W50: close to boundary | X50: 284721 | Y50: 621431.39
A51: 30 | B51: 43920 | C51: Sowell, Dexter | D51: FPP | E51: Syzygium cumini | F51: Point | G51: Dead | H51: Yes | I51: 0.01;2 car garage | J51: =LOOKUP(I51,$I$2:$I$19,$J$2:$J$19) -> 0.01 | K51: 3 | L51: 51-75% | M51: =LOOKUP(L51,$L$2:$L$9,$M$2:$M$9) -> 0.625 | N51: =(J51)*(M51) -> 0.00625 | O51: 0% | P51: =LOOKUP(O51,$L$2:$L$9,$M$2:$M$9) -> 0 | Q51: =(J51)*(P51) -> 0 | R51: Single plant/clump | S51: ZZ | T51: strand swamp | U51: revisit | V51: 1624 | W51: close to boundary ditto | X51: 284665.86 | Y51: 621579.3
A52: 31 | B52: 43920 | C52: Sowell, Dexter | D52: FPP | E52: Schinus terebinthifo | F52: Point | G52: Live | H52: No | I52: 0.0005; 1 lg desk | J52: =LOOKUP(I52,$I$2:$I$19,$J$2:$J$19) -> 0.0005 | K52: 9 | L52: 26-50% | M52: =LOOKUP(L52,$L$2:$L$9,$M$2:$M$9) -> 0.375 | N52: =(J52)*(M52) -> 0.0001875 | O52: 26-50% | P52: =LOOKUP(O52,$L$2:$L$9,$M$2:$M$9) -> 0.375 | Q52: =(J52)*(P52) -> 0.0001875 | R52: Single plant/clump | S52: ZZ | T52: strand swamp | U52: revisit | V52: 1630 | X52: 284645.24 | Y52: 621768.93
A53: 32 | B53: 43920 | C53: Sowell, Dexter | D53: FPP | E53: Melaleuca quinquener | F53: Point | G53: Dead | H53: Yes | I53: 0.001;2 lg desk | J53: =LOOKUP(I53,$I$2:$I$19,$J$2:$J$19) -> 0.001 | K53: 9 | L53: >95% | M53: =LOOKUP(L53,$L$2:$L$9,$M$2:$M$9) -> 0.975 | N53: =(J53)*(M53) -> 0.000975 | O53: 0% | P53: =LOOKUP(O53,$L$2:$L$9,$M$2:$M$9) -> 0 | Q53: =(J53)*(P53) -> 0 | R53: Dominant cover | S53: ZZ | T53: strand swamp | U53: revisit | V53: 1633 | W53: CS TX | X53: 284613.47 | Y53: 621733.56
J54: =SUM(J22:J53) -> 0.28375 | N54: =SUM(N22:N53) -> 0.1638375 | Q54: =SUM(Q22:Q53) -> 0.002705
J55: Gross Infested Ac | N55: Net Infested Ac Before Treatment | Q55: Net Infested Ac After Treatment
M57: Percent Control
M58: Count | N58: Species | O58: Net Ac B4 | P58: Net Ac Aft | Q58: % Control
M59: =COUNTIF($E$22:$E$53,N59) -> 1 | N59: Acacia auriculiformi | O59: =SUMIF($E$22:$E$53,$N59,$N$22:$N$53) -> 0.0001875 | P59: =SUMIF($E$22:$E$53,$N59,$Q$22:$Q$53) -> 0 | Q59: =((O59-P59)/(O59)) -> 1
M60: =COUNTIF($E$22:$E$53,N60) -> 7 | N60: Lygodium microphyllu | O60: =SUMIF($E$22:$E$53,$N60,$N$22:$N$53) -> 0.01076375 | P60: =SUMIF($E$22:$E$53,$N60,$Q$22:$Q$53) -> 0.000355 | Q60: =((O60-P60)/(O60)) -> 0.96701893
M61: =COUNTIF($E$22:$E$53,N61) -> 4 | N61: Melaleuca quinquener | O61: =SUMIF($E$22:$E$53,$N61,$N$22:$N$53) -> 0.00285 | P61: =SUMIF($E$22:$E$53,$N61,$Q$22:$Q$53) -> 5e-05 | Q61: =((O61-P61)/(O61)) -> 0.98245614
M62: =COUNTIF($E$22:$E$53,N62) -> 5 | N62: Schinus terebinthifo | O62: =SUMIF($E$22:$E$53,$N62,$N$22:$N$53) -> 0.06940625 | P62: =SUMIF($E$22:$E$53,$N62,$Q$22:$Q$53) -> 0.0005625 | Q62: =((O62-P62)/(O62)) -> 0.99189554
M63: =COUNTIF($E$22:$E$53,N63) -> 12 | N63: Solanum tampicense | O63: =SUMIF($E$22:$E$53,$N63,$N$22:$N$53) -> 0.0737675 | P63: =SUMIF($E$22:$E$53,$N63,$Q$22:$Q$53) -> 0.001475 | Q63: =((O63-P63)/(O63)) -> 0.98000474
M64: =COUNTIF($E$22:$E$53,N64) -> 3 | N64: Syzygium cumini | O64: =SUMIF($E$22:$E$53,$N64,$N$22:$N$53) -> 0.0068625 | P64: =SUMIF($E$22:$E$53,$N64,$Q$22:$Q$53) -> 0.0002625 | Q64: =((O64-P64)/(O64)) -> 0.96174863
M65: =COUNTA(E22:E53) -> 32 | N65: All Targets | O65: =SUM(O59:O64) -> 0.1638375 | P65: =SUM(P59:P64) -> 0.002705 | Q65: =((O65-P65)/(O65)) -> 0.98348974

Sheet Original_data
A1: Title | B1: Date created | C1: Latitude | D1: Longitude | E1: Northing | F1: Easting | G1: Description | H1: Elevation | I1: 1) Species | J1: 2) Area of infestation | K1: 3) Total coverage (alive & dead) | L1: 4) Coverage of live plants | M1: 5) Management Unit/Zone | N1: 6) Project Number

Sheet lookups
A1: 2 | B1: 2 | D1: 0% | E1: 0
A2: 3 | B2: 3 | D2: <1% | E2: 0.005
A3: 4 | B3: 4 | D3: >95% | E3: 0.975
A4: 5 | B4: 5 | D4: 1-5% | E4: 0.03
A5: 6 | B5: 6 | D5: 26-50% | E5: 0.375
A6: 7 | B6: 7 | D6: 51-75% | E6: 0.625
A7: 8 | B7: 8 | D7: 6-25% | E7: 0.15
A8: 9 | B8: 9 | D8: 76-95% | E8: 0.85
A9: 10 | B9: 10
A10: 0.00025; sq meter | B10: 0.00025
A11: 0.0005; 1 lg desk | B11: 0.0005
A12: 0.001;2 lg desk | B12: 0.001
A13: 0.01;2 car garage | B13: 0.01
A14: 0.1;bball ct | B14: 0.1
A15: 0.25;4 tennis ct | B15: 0.25
A16: 0.5;half fball field | B16: 0.5
A17: 1.0;fball field | B17: 1
A18: Other (in Comments) | B18: -999

Sheet Ouput_table
A1: Title | B1: Date_Created | C1: Latitude | D1: Longitude | E1: Northing | F1: Easting | G1: Elevation | H1: Description | I1: 1__Species | J1: 2) Area of infestation | K1: Gross_Ac | L1: 3) Total coverage (alive & dead) | M1: % b4 | N1: Net Ac b4 | O1: 4) Coverage of live plants | P1: 5) Management Unit/Zone | Q1: 6) Project Number | R1: % aft | S1: Net Ac aft | T1: Waypoint % Control | U1: Cumulative % Control
A2: =Original_data!A2 -> 0 | B2: =Original_data!B2 -> 0 | C2: =Original_data!C2 -> 0 | D2: =Original_data!D2 -> 0 | E2: =Original_data!E2 -> 0 | F2: =Original_data!F2 -> 0 | G2: =Original_data!H2 -> 0 | H2: =Original_data!G2 -> 0 | I2: =Original_data!I2 -> 0 | J2: =Original_data!J2 -> 0 | K2: =IFERROR(LOOKUP($J2,Lookup_Tables!$A$3:$A$9,Lookup_Tables!$B$3:$B$9),0) -> 0 | L2: =Original_data!K2 -> 0 | M2: =IFERROR(LOOKUP($L2,Lookup_Tables!$A$12:$A$18,Lookup_Tables!$B$12:$B$18),0) -> 0 | N2: =PRODUCT($K2*$M2) -> 0 | O2: =Original_data!L2 -> 0 | P2: =Original_data!M2 -> 0 | Q2: =Original_data!N2 -> 0 | R2: =IFERROR(LOOKUP($O2,Lookup_Tables!$A$21:$A$28,Lookup_Tables!$B$21:$B$28),0) -> 0 | S2: =PRODUCT($K2*$R2) -> 0 | T2: =IFERROR((($N2-$S2)/($N2)),"") | U2: =IFERROR(((SUM($N$2:$N2)-SUM($S$2:$S2))/(SUM($N$2:$N2))),"")
A3: =Original_data!A3 -> 0 | B3: =Original_data!B3 -> 0 | C3: =Original_data!C3 -> 0 | D3: =Original_data!D3 -> 0 | E3: =Original_data!E3 -> 0 | F3: =Original_data!F3 -> 0 | G3: =Original_data!H3 -> 0 | H3: =Original_data!G3 -> 0 | I3: =Original_data!I3 -> 0 | J3: =Original_data!J3 -> 0 | K3: =IFERROR(LOOKUP($J3,Lookup_Tables!$A$3:$A$9,Lookup_Tables!$B$3:$B$9),0) -> 0 | L3: =Original_data!K3 -> 0 | M3: =IFERROR(LOOKUP($L3,Lookup_Tables!$A$12:$A$18,Lookup_Tables!$B$12:$B$18),0) -> 0 | N3: =PRODUCT($K3*$M3) -> 0 | O3: =Original_data!L3 -> 0 | P3: =Original_data!M3 -> 0 | Q3: =Original_data!N3 -> 0 | R3: =IFERROR(LOOKUP($O3,Lookup_Tables!$A$21:$A$28,Lookup_Tables!$B$21:$B$28),0) -> 0 | S3: =PRODUCT($K3*$R3) -> 0 | T3: =IFERROR((($N3-$S3)/($N3)),"") | U3: =IFERROR(((SUM($N$2:$N3)-SUM($S$2:$S3))/(SUM($N$2:$N3))),"")
A4: =Original_data!A4 -> 0 | B4: =Original_data!B4 -> 0 | C4: =Original_data!C4 -> 0 | D4: =Original_data!D4 -> 0 | E4: =Original_data!E4 -> 0 | F4: =Original_data!F4 -> 0 | G4: =Original_data!H4 -> 0 | H4: =Original_data!G4 -> 0 | I4: =Original_data!I4 -> 0 | J4: =Original_data!J4 -> 0 | K4: =IFERROR(LOOKUP($J4,Lookup_Tables!$A$3:$A$9,Lookup_Tables!$B$3:$B$9),0) -> 0 | L4: =Original_data!K4 -> 0 | M4: =IFERROR(LOOKUP($L4,Lookup_Tables!$A$12:$A$18,Lookup_Tables!$B$12:$B$18),0) -> 0 | N4: =PRODUCT($K4*$M4) -> 0 | O4: =Original_data!L4 -> 0 | P4: =Original_data!M4 -> 0 | Q4: =Original_data!N4 -> 0 | R4: =IFERROR(LOOKUP($O4,Lookup_Tables!$A$21:$A$28,Lookup_Tables!$B$21:$B$28),0) -> 0 | S4: =PRODUCT($K4*$R4) -> 0 | T4: =IFERROR((($N4-$S4)/($N4)),"") | U4: =IFERROR(((SUM($N$2:$N4)-SUM($S$2:$S4))/(SUM($N$2:$N4))),"")
A5: =Original_data!A5 -> 0 | B5: =Original_data!B5 -> 0 | C5: =Original_data!C5 -> 0 | D5: =Original_data!D5 -> 0 | E5: =Original_data!E5 -> 0 | F5: =Original_data!F5 -> 0 | G5: =Original_data!H5 -> 0 | H5: =Original_data!G5 -> 0 | I5: =Original_data!I5 -> 0 | J5: =Original_data!J5 -> 0 | K5: =IFERROR(LOOKUP($J5,Lookup_Tables!$A$3:$A$9,Lookup_Tables!$B$3:$B$9),0) -> 0 | L5: =Original_data!K5 -> 0 | M5: =IFERROR(LOOKUP($L5,Lookup_Tables!$A$12:$A$18,Lookup_Tables!$B$12:$B$18),0) -> 0 | N5: =PRODUCT($K5*$M5) -> 0 | O5: =Original_data!L5 -> 0 | P5: =Original_data!M5 -> 0 | Q5: =Original_data!N5 -> 0 | R5: =IFERROR(LOOKUP($O5,Lookup_Tables!$A$21:$A$28,Lookup_Tables!$B$21:$B$28),0) -> 0 | S5: =PRODUCT($K5*$R5) -> 0 | T5: =IFERROR((($N5-$S5)/($N5)),"") | U5: =IFERROR(((SUM($N$2:$N5)-SUM($S$2:$S5))/(SUM($N$2:$N5))),"")
A6: =Original_data!A6 -> 0 | B6: =Original_data!B6 -> 0 | C6: =Original_data!C6 -> 0 | D6: =Original_data!D6 -> 0 | E6: =Original_data!E6 -> 0 | F6: =Original_data!F6 -> 0 | G6: =Original_data!H6 -> 0 | H6: =Original_data!G6 -> 0 | I6: =Original_data!I6 -> 0 | J6: =Original_data!J6 -> 0 | K6: =IFERROR(LOOKUP($J6,Lookup_Tables!$A$3:$A$9,Lookup_Tables!$B$3:$B$9),0) -> 0 | L6: =Original_data!K6 -> 0 | M6: =IFERROR(LOOKUP($L6,Lookup_Tables!$A$12:$A$18,Lookup_Tables!$B$12:$B$18),0) -> 0 | N6: =PRODUCT($K6*$M6) -> 0 | O6: =Original_data!L6 -> 0 | P6: =Original_data!M6 -> 0 | Q6: =Original_data!N6 -> 0 | R6: =IFERROR(LOOKUP($O6,Lookup_Tables!$A$21:$A$28,Lookup_Tables!$B$21:$B$28),0) -> 0 | S6: =PRODUCT($K6*$R6) -> 0 | T6: =IFERROR((($N6-$S6)/($N6)),"") | U6: =IFERROR(((SUM($N$2:$N6)-SUM($S$2:$S6))/(SUM($N$2:$N6))),"")
A7: =Original_data!A7 -> 0 | B7: =Original_data!B7 -> 0 | C7: =Original_data!C7 -> 0 | D7: =Original_data!D7 -> 0 | E7: =Original_data!E7 -> 0 | F7: =Original_data!F7 -> 0 | G7: =Original_data!H7 -> 0 | H7: =Original_data!G7 -> 0 | I7: =Original_data!I7 -> 0 | J7: =Original_data!J7 -> 0 | K7: =IFERROR(LOOKUP($J7,Lookup_Tables!$A$3:$A$9,Lookup_Tables!$B$3:$B$9),0) -> 0 | L7: =Original_data!K7 -> 0 | M7: =IFERROR(LOOKUP($L7,Lookup_Tables!$A$12:$A$18,Lookup_Tables!$B$12:$B$18),0) -> 0 | N7: =PRODUCT($K7*$M7) -> 0 | O7: =Original_data!L7 -> 0 | P7: =Original_data!M7 -> 0 | Q7: =Original_data!N7 -> 0 | R7: =IFERROR(LOOKUP($O7,Lookup_Tables!$A$21:$A$28,Lookup_Tables!$B$21:$B$28),0) -> 0 | S7: =PRODUCT($K7*$R7) -> 0 | T7: =IFERROR((($N7-$S7)/($N7)),"") | U7: =IFERROR(((SUM($N$2:$N7)-SUM($S$2:$S7))/(SUM($N$2:$N7))),"")
A8: =Original_data!A8 -> 0 | B8: =Original_data!B8 -> 0 | C8: =Original_data!C8 -> 0 | D8: =Original_data!D8 -> 0 | E8: =Original_data!E8 -> 0 | F8: =Original_data!F8 -> 0 | G8: =Original_data!H8 -> 0 | H8: =Original_data!G8 -> 0 | I8: =Original_data!I8 -> 0 | J8: =Original_data!J8 -> 0 | K8: =IFERROR(LOOKUP($J8,Lookup_Tables!$A$3:$A$9,Lookup_Tables!$B$3:$B$9),0) -> 0 | L8: =Original_data!K8 -> 0 | M8: =IFERROR(LOOKUP($L8,Lookup_Tables!$A$12:$A$18,Lookup_Tables!$B$12:$B$18),0) -> 0 | N8: =PRODUCT($K8*$M8) -> 0 | O8: =Original_data!L8 -> 0 | P8: =Original_data!M8 -> 0 | Q8: =Original_data!N8 -> 0 | R8: =IFERROR(LOOKUP($O8,Lookup_Tables!$A$21:$A$28,Lookup_Tables!$B$21:$B$28),0) -> 0 | S8: =PRODUCT($K8*$R8) -> 0 | T8: =IFERROR((($N8-$S8)/($N8)),"") | U8: =IFERROR(((SUM($N$2:$N8)-SUM($S$2:$S8))/(SUM($N$2:$N8))),"")
A9: =Original_data!A9 -> 0 | B9: =Original_data!B9 -> 0 | C9: =Original_data!C9 -> 0 | D9: =Original_data!D9 -> 0 | E9: =Original_data!E9 -> 0 | F9: =Original_data!F9 -> 0 | G9: =Original_data!H9 -> 0 | H9: =Original_data!G9 -> 0 | I9: =Original_data!I9 -> 0 | J9: =Original_data!J9 -> 0 | K9: =IFERROR(LOOKUP($J9,Lookup_Tables!$A$3:$A$9,Lookup_Tables!$B$3:$B$9),0) -> 0 | L9: =Original_data!K9 -> 0 | M9: =IFERROR(LOOKUP($L9,Lookup_Tables!$A$12:$A$18,Lookup_Tables!$B$12:$B$18),0) -> 0 | N9: =PRODUCT($K9*$M9) -> 0 | O9: =Original_data!L9 -> 0 | P9: =Original_data!M9 -> 0 | Q9: =Original_data!N9 -> 0 | R9: =IFERROR(LOOKUP($O9,Lookup_Tables!$A$21:$A$28,Lookup_Tables!$B$21:$B$28),0) -> 0 | S9: =PRODUCT($K9*$R9) -> 0 | T9: =IFERROR((($N9-$S9)/($N9)),"") | U9: =IFERROR(((SUM($N$2:$N9)-SUM($S$2:$S9))/(SUM($N$2:$N9))),"")
A10: =Original_data!A10 -> 0 | B10: =Original_data!B10 -> 0 | C10: =Original_data!C10 -> 0 | D10: =Original_data!D10 -> 0 | E10: =Original_data!E10 -> 0 | F10: =Original_data!F10 -> 0 | G10: =Original_data!H10 -> 0 | H10: =Original_data!G10 -> 0 | I10: =Original_data!I10 -> 0 | J10: =Original_data!J10 -> 0 | K10: =IFERROR(LOOKUP($J10,Lookup_Tables!$A$3:$A$9,Lookup_Tables!$B$3:$B$9),0) -> 0 | L10: =Original_data!K10 -> 0 | M10: =IFERROR(LOOKUP($L10,Lookup_Tables!$A$12:$A$18,Lookup_Tables!$B$12:$B$18),0) -> 0 | N10: =PRODUCT($K10*$M10) -> 0 | O10: =Original_data!L10 -> 0 | P10: =Original_data!M10 -> 0 | Q10: =Original_data!N10 -> 0 | R10: =IFERROR(LOOKUP($O10,Lookup_Tables!$A$21:$A$28,Lookup_Tables!$B$21:$B$28),0) -> 0 | S10: =PRODUCT($K10*$R10) -> 0 | T10: =IFERROR((($N10-$S10)/($N10)),"") | U10: =IFERROR(((SUM($N$2:$N10)-SUM($S$2:$S10))/(SUM($N$2:$N10))),"")
A11: =Original_data!A11 -> 0 | B11: =Original_data!B11 -> 0 | C11: =Original_data!C11 -> 0 | D11: =Original_data!D11 -> 0 | E11: =Original_data!E11 -> 0 | F11: =Original_data!F11 -> 0 | G11: =Original_data!H11 -> 0 | H11: =Original_data!G11 -> 0 | I11: =Original_data!I11 -> 0 | J11: =Original_data!J11 -> 0 | K11: =IFERROR(LOOKUP($J11,Lookup_Tables!$A$3:$A$9,Lookup_Tables!$B$3:$B$9),0) -> 0 | L11: =Original_data!K11 -> 0 | M11: =IFERROR(LOOKUP($L11,Lookup_Tables!$A$12:$A$18,Lookup_Tables!$B$12:$B$18),0) -> 0 | N11: =PRODUCT($K11*$M11) -> 0 | O11: =Original_data!L11 -> 0 | P11: =Original_data!M11 -> 0 | Q11: =Original_data!N11 -> 0 | R11: =IFERROR(LOOKUP($O11,Lookup_Tables!$A$21:$A$28,Lookup_Tables!$B$21:$B$28),0) -> 0 | S11: =PRODUCT($K11*$R11) -> 0 | T11: =IFERROR((($N11-$S11)/($N11)),"") | U11: =IFERROR(((SUM($N$2:$N11)-SUM($S$2:$S11))/(SUM($N$2:$N11))),"")
A12: =Original_data!A12 -> 0 | B12: =Original_data!B12 -> 0 | C12: =Original_data!C12 -> 0 | D12: =Original_data!D12 -> 0 | E12: =Original_data!E12 -> 0 | F12: =Original_data!F12 -> 0 | G12: =Original_data!H12 -> 0 | H12: =Original_data!G12 -> 0 | I12: =Original_data!I12 -> 0 | J12: =Original_data!J12 -> 0 | K12: =IFERROR(LOOKUP($J12,Lookup_Tables!$A$3:$A$9,Lookup_Tables!$B$3:$B$9),0) -> 0 | L12: =Original_data!K12 -> 0 | M12: =IFERROR(LOOKUP($L12,Lookup_Tables!$A$12:$A$18,Lookup_Tables!$B$12:$B$18),0) -> 0 | N12: =PRODUCT($K12*$M12) -> 0 | O12: =Original_data!L12 -> 0 | P12: =Original_data!M12 -> 0 | Q12: =Original_data!N12 -> 0 | R12: =IFERROR(LOOKUP($O12,Lookup_Tables!$A$21:$A$28,Lookup_Tables!$B$21:$B$28),0) -> 0 | S12: =PRODUCT($K12*$R12) -> 0 | T12: =IFERROR((($N12-$S12)/($N12)),"") | U12: =IFERROR(((SUM($N$2:$N12)-SUM($S$2:$S12))/(SUM($N$2:$N12))),"")
A13: =Original_data!A13 -> 0 | B13: =Original_data!B13 -> 0 | C13: =Original_data!C13 -> 0 | D13: =Original_data!D13 -> 0 | E13: =Original_data!E13 -> 0 | F13: =Original_data!F13 -> 0 | G13: =Original_data!H13 -> 0 | H13: =Original_data!G13 -> 0 | I13: =Original_data!I13 -> 0 | J13: =Original_data!J13 -> 0 | K13: =IFERROR(LOOKUP($J13,Lookup_Tables!$A$3:$A$9,Lookup_Tables!$B$3:$B$9),0) -> 0 | L13: =Original_data!K13 -> 0 | M13: =IFERROR(LOOKUP($L13,Lookup_Tables!$A$12:$A$18,Lookup_Tables!$B$12:$B$18),0) -> 0 | N13: =PRODUCT($K13*$M13) -> 0 | O13: =Original_data!L13 -> 0 | P13: =Original_data!M13 -> 0 | Q13: =Original_data!N13 -> 0 | R13: =IFERROR(LOOKUP($O13,Lookup_Tables!$A$21:$A$28,Lookup_Tables!$B$21:$B$28),0) -> 0 | S13: =PRODUCT($K13*$R13) -> 0 | T13: =IFERROR((($N13-$S13)/($N13)),"") | U13: =IFERROR(((SUM($N$2:$N13)-SUM($S$2:$S13))/(SUM($N$2:$N13))),"")
... A99: =Original_data!A99 -> 0 | B99: =Original_data!B99 -> 0 | C99: =Original_data!C99 -> 0 | D99: =Original_data!D99 -> 0 | E99: =Original_data!E99 -> 0 | F99: =Original_data!F99 -> 0 | G99: =Original_data!H99 -> 0 | H99: =Original_data!G99 -> 0 | I99: =Original_data!I99 -> 0 | J99: =Original_data!J99 -> 0 | K99: =IFERROR(LOOKUP($J99,Lookup_Tables!$A$3:$A$9,Lookup_Tables!$B$3:$B$9),0) -> 0 | L99: =Original_data!K99 -> 0 | M99: =IFERROR(LOOKUP($L99,Lookup_Tables!$A$12:$A$18,Lookup_Tables!$B$12:$B$18),0) -> 0 | N99: =PRODUCT($K99*$M99) -> 0 | O99: =Original_data!L99 -> 0 | P99: =Original_data!M99 -> 0 | Q99: =Original_data!N99 -> 0 | R99: =IFERROR(LOOKUP($O99,Lookup_Tables!$A$21:$A$28,Lookup_Tables!$B$21:$B$28),0) -> 0 | S99: =PRODUCT($K99*$R99) -> 0 | T99: =IFERROR((($N99-$S99)/($N99)),"") | U99: =IFERROR(((SUM($N$2:$N99)-SUM($S$2:$S99))/(SUM($N$2:$N99))),"")

Sheet All_summary
A1: Project Percent Control | B1: n | C1: STDEV.P | D1: CI_95 | E1: Low | F1: High
A2: =SUM(SUM(Ouput_table!N2:N99)-SUM(Ouput_table!S2:S99))/(SUM(Ouput_table!N2:N99)) -> #DIV/0! | B2: =COUNTIF(Ouput_table!I2:I99,"<>0") -> 0 | C2: =_xlfn.STDEV.P(Ouput_table!U2:U99) -> #DIV/0! | D2: =_xlfn.CONFIDENCE.NORM(0.05,C2,B2) -> #DIV/0! | E2: =A2-D2 -> #DIV/0! | F2: =A2+D2 -> #DIV/0!

Sheet Summary_species
A1: Gross and Net Acres | C1: Totals | D1: =SUM(D3:D102) -> 0 | E1: =SUM(E3:E102) -> 0 | F1: =SUM(F3:F102) -> 0 | H1: =SUM(H3:H500) -> 0 | I1: =SUM(I3:I500) -> 0 | J1: =IF(H1>0,(H1-I1)/H1,0) -> 0 | K1: =SUM(K3:K500) -> 0 | L1: =SUM(L3:L500) -> 0 | M1: =IF(K1>0,(K1-L1)/K1,0) -> 0
A2: Gross Infested Ac | C2: =SUM(Ouput_table!$K$2:$K$99) -> 0 | D2: Misses | E2: Tx_attempts | F2: Total | G2: Species | H2: Net Ac B4 | I2: Net Ac Aft | J2: % Control | K2: Net Ac B4-Tx | L2: Net Ac Aft-Tx | M2: % Efficacy Tx
A3: Net Infested Ac Before Treatment | C3: =SUM(Ouput_table!$N$2:$N$99) -> 0 | D3: =IF(LEN(G3)<2,"",COUNTIFS(Ouput_table!$I$2:$I$99,Summary_species!G3,Ouput_table!$T$2:$T$99,0)) | E3: =IF(LEN(G3)<2,"",COUNTIFS(Ouput_table!$I$2:$I$99,Summary_species!G3,Ouput_table!$T$2:$T$99,">0")) | F3: =IF(LEN(G3)<2,"",COUNTIF(Ouput_table!$I$2:$I$100,Summary_species!G3)) | H3: =IF(LEN(G3)<2,"",SUMIF(Ouput_table!$I$2:$I$100,Summary_species!G3,Ouput_table!$N$2:$N$99)) | I3: =IF(LEN(G3)<2,"",SUMIF(Ouput_table!$I$2:$I$100,Summary_species!G3,Ouput_table!$S$2:$S$99)) | J3: =IF(LEN(G3)<2,"",((H3-I3)/(H3))) | K3: =IF(LEN(G3)<2,"",SUMIFS(Ouput_table!$N$2:$N$99,Ouput_table!$I$2:$I$99,Summary_species!G3,Ouput_table!$T$2:$T$99,">0")) | L3: =IF(LEN(G3)<2,"",SUMIFS(Ouput_table!$S$2:$S$99,Ouput_table!$I$2:$I$99,Summary_species!G3,Ouput_table!$T$2:$T$99,">0")) | M3: =IF(LEN(G3)<2,"",((K3-L3)/(K3)))
A4: Net Infested Ac After Treatment | C4: =SUM(Ouput_table!$S$2:$S$99) -> 0 | D4: =IF(LEN(G4)<2,"",COUNTIFS(Ouput_table!$I$2:$I$99,Summary_species!G4,Ouput_table!$T$2:$T$99,0)) | E4: =IF(LEN(G4)<2,"",COUNTIFS(Ouput_table!$I$2:$I$99,Summary_species!G4,Ouput_table!$T$2:$T$99,">0")) | F4: =IF(LEN(G4)<2,"",COUNTIF(Ouput_table!$I$2:$I$100,Summary_species!G4)) | H4: =IF(LEN(G4)<2,"",SUMIF(Ouput_table!$I$2:$I$100,Summary_species!G4,Ouput_table!$N$2:$N$99)) | I4: =IF(LEN(G4)<2,"",SUMIF(Ouput_table!$I$2:$I$100,Summary_species!G4,Ouput_table!$S$2:$S$99)) | J4: =IF(LEN(G4)<2,"",((H4-I4)/(H4))) | K4: =IF(LEN(G4)<2,"",SUMIFS(Ouput_table!$N$2:$N$99,Ouput_table!$I$2:$I$99,Summary_species!G4,Ouput_table!$T$2:$T$99,">0")) | L4: =IF(LEN(G4)<2,"",SUMIFS(Ouput_table!$S$2:$S$99,Ouput_table!$I$2:$I$99,Summary_species!G4,Ouput_table!$T$2:$T$99,">0")) | M4: =IF(LEN(G4)<2,"",((K4-L4)/(K4)))
D5: =IF(LEN(G5)<2,"",COUNTIFS(Ouput_table!$I$2:$I$99,Summary_species!G5,Ouput_table!$T$2:$T$99,0)) | E5: =IF(LEN(G5)<2,"",COUNTIFS(Ouput_table!$I$2:$I$99,Summary_species!G5,Ouput_table!$T$2:$T$99,">0")) | F5: =IF(LEN(G5)<2,"",COUNTIF(Ouput_table!$I$2:$I$100,Summary_species!G5)) | H5: =IF(LEN(G5)<2,"",SUMIF(Ouput_table!$I$2:$I$100,Summary_species!G5,Ouput_table!$N$2:$N$99)) | I5: =IF(LEN(G5)<2,"",SUMIF(Ouput_table!$I$2:$I$100,Summary_species!G5,Ouput_table!$S$2:$S$99)) | J5: =IF(LEN(G5)<2,"",((H5-I5)/(H5))) | K5: =IF(LEN(G5)<2,"",SUMIFS(Ouput_table!$N$2:$N$99,Ouput_table!$I$2:$I$99,Summary_species!G5,Ouput_table!$T$2:$T$99,">0")) | L5: =IF(LEN(G5)<2,"",SUMIFS(Ouput_table!$S$2:$S$99,Ouput_table!$I$2:$I$99,Summary_species!G5,Ouput_table!$T$2:$T$99,">0")) | M5: =IF(LEN(G5)<2,"",((K5-L5)/(K5)))
D6: =IF(LEN(G6)<2,"",COUNTIFS(Ouput_table!$I$2:$I$99,Summary_species!G6,Ouput_table!$T$2:$T$99,0)) | E6: =IF(LEN(G6)<2,"",COUNTIFS(Ouput_table!$I$2:$I$99,Summary_species!G6,Ouput_table!$T$2:$T$99,">0")) | F6: =IF(LEN(G6)<2,"",COUNTIF(Ouput_table!$I$2:$I$100,Summary_species!G6)) | H6: =IF(LEN(G6)<2,"",SUMIF(Ouput_table!$I$2:$I$100,Summary_species!G6,Ouput_table!$N$2:$N$99)) | I6: =IF(LEN(G6)<2,"",SUMIF(Ouput_table!$I$2:$I$100,Summary_species!G6,Ouput_table!$S$2:$S$99)) | J6: =IF(LEN(G6)<2,"",((H6-I6)/(H6))) | K6: =IF(LEN(G6)<2,"",SUMIFS(Ouput_table!$N$2:$N$99,Ouput_table!$I$2:$I$99,Summary_species!G6,Ouput_table!$T$2:$T$99,">0")) | L6: =IF(LEN(G6)<2,"",SUMIFS(Ouput_table!$S$2:$S$99,Ouput_table!$I$2:$I$99,Summary_species!G6,Ouput_table!$T$2:$T$99,">0")) | M6: =IF(LEN(G6)<2,"",((K6-L6)/(K6)))
D7: =IF(LEN(G7)<2,"",COUNTIFS(Ouput_table!$I$2:$I$99,Summary_species!G7,Ouput_table!$T$2:$T$99,0)) | E7: =IF(LEN(G7)<2,"",COUNTIFS(Ouput_table!$I$2:$I$99,Summary_species!G7,Ouput_table!$T$2:$T$99,">0")) | F7: =IF(LEN(G7)<2,"",COUNTIF(Ouput_table!$I$2:$I$100,Summary_species!G7)) | H7: =IF(LEN(G7)<2,"",SUMIF(Ouput_table!$I$2:$I$100,Summary_species!G7,Ouput_table!$N$2:$N$99)) | I7: =IF(LEN(G7)<2,"",SUMIF(Ouput_table!$I$2:$I$100,Summary_species!G7,Ouput_table!$S$2:$S$99)) | J7: =IF(LEN(G7)<2,"",((H7-I7)/(H7))) | K7: =IF(LEN(G7)<2,"",SUMIFS(Ouput_table!$N$2:$N$99,Ouput_table!$I$2:$I$99,Summary_species!G7,Ouput_table!$T$2:$T$99,">0")) | L7: =IF(LEN(G7)<2,"",SUMIFS(Ouput_table!$S$2:$S$99,Ouput_table!$I$2:$I$99,Summary_species!G7,Ouput_table!$T$2:$T$99,">0")) | M7: =IF(LEN(G7)<2,"",((K7-L7)/(K7)))
D8: =IF(LEN(G8)<2,"",COUNTIFS(Ouput_table!$I$2:$I$99,Summary_species!G8,Ouput_table!$T$2:$T$99,0)) | E8: =IF(LEN(G8)<2,"",COUNTIFS(Ouput_table!$I$2:$I$99,Summary_species!G8,Ouput_table!$T$2:$T$99,">0")) | F8: =IF(LEN(G8)<2,"",COUNTIF(Ouput_table!$I$2:$I$100,Summary_species!G8)) | H8: =IF(LEN(G8)<2,"",SUMIF(Ouput_table!$I$2:$I$100,Summary_species!G8,Ouput_table!$N$2:$N$99)) | I8: =IF(LEN(G8)<2,"",SUMIF(Ouput_table!$I$2:$I$100,Summary_species!G8,Ouput_table!$S$2:$S$99)) | J8: =IF(LEN(G8)<2,"",((H8-I8)/(H8))) | K8: =IF(LEN(G8)<2,"",SUMIFS(Ouput_table!$N$2:$N$99,Ouput_table!$I$2:$I$99,Summary_species!G8,Ouput_table!$T$2:$T$99,">0")) | L8: =IF(LEN(G8)<2,"",SUMIFS(Ouput_table!$S$2:$S$99,Ouput_table!$I$2:$I$99,Summary_species!G8,Ouput_table!$T$2:$T$99,">0")) | M8: =IF(LEN(G8)<2,"",((K8-L8)/(K8)))
D9: =IF(LEN(G9)<2,"",COUNTIFS(Ouput_table!$I$2:$I$99,Summary_species!G9,Ouput_table!$T$2:$T$99,0)) | E9: =IF(LEN(G9)<2,"",COUNTIFS(Ouput_table!$I$2:$I$99,Summary_species!G9,Ouput_table!$T$2:$T$99,">0")) | F9: =IF(LEN(G9)<2,"",COUNTIF(Ouput_table!$I$2:$I$100,Summary_species!G9)) | H9: =IF(LEN(G9)<2,"",SUMIF(Ouput_table!$I$2:$I$100,Summary_species!G9,Ouput_table!$N$2:$N$99)) | I9: =IF(LEN(G9)<2,"",SUMIF(Ouput_table!$I$2:$I$100,Summary_species!G9,Ouput_table!$S$2:$S$99)) | J9: =IF(LEN(G9)<2,"",((H9-I9)/(H9))) | K9: =IF(LEN(G9)<2,"",SUMIFS(Ouput_table!$N$2:$N$99,Ouput_table!$I$2:$I$99,Summary_species!G9,Ouput_table!$T$2:$T$99,">0")) | L9: =IF(LEN(G9)<2,"",SUMIFS(Ouput_table!$S$2:$S$99,Ouput_table!$I$2:$I$99,Summary_species!G9,Ouput_table!$T$2:$T$99,">0")) | M9: =IF(LEN(G9)<2,"",((K9-L9)/(K9)))
D10: =IF(LEN(G10)<2,"",COUNTIFS(Ouput_table!$I$2:$I$99,Summary_species!G10,Ouput_table!$T$2:$T$99,0)) | E10: =IF(LEN(G10)<2,"",COUNTIFS(Ouput_table!$I$2:$I$99,Summary_species!G10,Ouput_table!$T$2:$T$99,">0")) | F10: =IF(LEN(G10)<2,"",COUNTIF(Ouput_table!$I$2:$I$100,Summary_species!G10)) | H10: =IF(LEN(G10)<2,"",SUMIF(Ouput_table!$I$2:$I$100,Summary_species!G10,Ouput_table!$N$2:$N$99)) | I10: =IF(LEN(G10)<2,"",SUMIF(Ouput_table!$I$2:$I$100,Summary_species!G10,Ouput_table!$S$2:$S$99)) | J10: =IF(LEN(G10)<2,"",((H10-I10)/(H10))) | K10: =IF(LEN(G10)<2,"",SUMIFS(Ouput_table!$N$2:$N$99,Ouput_table!$I$2:$I$99,Summary_species!G10,Ouput_table!$T$2:$T$99,">0")) | L10: =IF(LEN(G10)<2,"",SUMIFS(Ouput_table!$S$2:$S$99,Ouput_table!$I$2:$I$99,Summary_species!G10,Ouput_table!$T$2:$T$99,">0")) | M10: =IF(LEN(G10)<2,"",((K10-L10)/(K10)))
D11: =IF(LEN(G11)<2,"",COUNTIFS(Ouput_table!$I$2:$I$99,Summary_species!G11,Ouput_table!$T$2:$T$99,0)) | E11: =IF(LEN(G11)<2,"",COUNTIFS(Ouput_table!$I$2:$I$99,Summary_species!G11,Ouput_table!$T$2:$T$99,">0")) | F11: =IF(LEN(G11)<2,"",COUNTIF(Ouput_table!$I$2:$I$100,Summary_species!G11)) | H11: =IF(LEN(G11)<2,"",SUMIF(Ouput_table!$I$2:$I$100,Summary_species!G11,Ouput_table!$N$2:$N$99)) | I11: =IF(LEN(G11)<2,"",SUMIF(Ouput_table!$I$2:$I$100,Summary_species!G11,Ouput_table!$S$2:$S$99)) | J11: =IF(LEN(G11)<2,"",((H11-I11)/(H11))) | K11: =IF(LEN(G11)<2,"",SUMIFS(Ouput_table!$N$2:$N$99,Ouput_table!$I$2:$I$99,Summary_species!G11,Ouput_table!$T$2:$T$99,">0")) | L11: =IF(LEN(G11)<2,"",SUMIFS(Ouput_table!$S$2:$S$99,Ouput_table!$I$2:$I$99,Summary_species!G11,Ouput_table!$T$2:$T$99,">0")) | M11: =IF(LEN(G11)<2,"",((K11-L11)/(K11)))
D12: =IF(LEN(G12)<2,"",COUNTIFS(Ouput_table!$I$2:$I$99,Summary_species!G12,Ouput_table!$T$2:$T$99,0)) | E12: =IF(LEN(G12)<2,"",COUNTIFS(Ouput_table!$I$2:$I$99,Summary_species!G12,Ouput_table!$T$2:$T$99,">0")) | F12: =IF(LEN(G12)<2,"",COUNTIF(Ouput_table!$I$2:$I$100,Summary_species!G12)) | H12: =IF(LEN(G12)<2,"",SUMIF(Ouput_table!$I$2:$I$100,Summary_species!G12,Ouput_table!$N$2:$N$99)) | I12: =IF(LEN(G12)<2,"",SUMIF(Ouput_table!$I$2:$I$100,Summary_species!G12,Ouput_table!$S$2:$S$99)) | J12: =IF(LEN(G12)<2,"",((H12-I12)/(H12))) | K12: =IF(LEN(G12)<2,"",SUMIFS(Ouput_table!$N$2:$N$99,Ouput_table!$I$2:$I$99,Summary_species!G12,Ouput_table!$T$2:$T$99,">0")) | L12: =IF(LEN(G12)<2,"",SUMIFS(Ouput_table!$S$2:$S$99,Ouput_table!$I$2:$I$99,Summary_species!G12,Ouput_table!$T$2:$T$99,">0")) | M12: =IF(LEN(G12)<2,"",((K12-L12)/(K12)))
D13: =IF(LEN(G13)<2,"",COUNTIFS(Ouput_table!$I$2:$I$99,Summary_species!G13,Ouput_table!$T$2:$T$99,0)) | E13: =IF(LEN(G13)<2,"",COUNTIFS(Ouput_table!$I$2:$I$99,Summary_species!G13,Ouput_table!$T$2:$T$99,">0")) | F13: =IF(LEN(G13)<2,"",COUNTIF(Ouput_table!$I$2:$I$100,Summary_species!G13)) | H13: =IF(LEN(G13)<2,"",SUMIF(Ouput_table!$I$2:$I$100,Summary_species!G13,Ouput_table!$N$2:$N$99)) | I13: =IF(LEN(G13)<2,"",SUMIF(Ouput_table!$I$2:$I$100,Summary_species!G13,Ouput_table!$S$2:$S$99)) | J13: =IF(LEN(G13)<2,"",((H13-I13)/(H13))) | K13: =IF(LEN(G13)<2,"",SUMIFS(Ouput_table!$N$2:$N$99,Ouput_table!$I$2:$I$99,Summary_species!G13,Ouput_table!$T$2:$T$99,">0")) | L13: =IF(LEN(G13)<2,"",SUMIFS(Ouput_table!$S$2:$S$99,Ouput_table!$I$2:$I$99,Summary_species!G13,Ouput_table!$T$2:$T$99,">0")) | M13: =IF(LEN(G13)<2,"",((K13-L13)/(K13)))
D14: =IF(LEN(G14)<2,"",COUNTIFS(Ouput_table!$I$2:$I$99,Summary_species!G14,Ouput_table!$T$2:$T$99,0)) | E14: =IF(LEN(G14)<2,"",COUNTIFS(Ouput_table!$I$2:$I$99,Summary_species!G14,Ouput_table!$T$2:$T$99,">0")) | F14: =IF(LEN(G14)<2,"",COUNTIF(Ouput_table!$I$2:$I$100,Summary_species!G14)) | H14: =IF(LEN(G14)<2,"",SUMIF(Ouput_table!$I$2:$I$100,Summary_species!G14,Ouput_table!$N$2:$N$99)) | I14: =IF(LEN(G14)<2,"",SUMIF(Ouput_table!$I$2:$I$100,Summary_species!G14,Ouput_table!$S$2:$S$99)) | J14: =IF(LEN(G14)<2,"",((H14-I14)/(H14))) | K14: =IF(LEN(G14)<2,"",SUMIFS(Ouput_table!$N$2:$N$99,Ouput_table!$I$2:$I$99,Summary_species!G14,Ouput_table!$T$2:$T$99,">0")) | L14: =IF(LEN(G14)<2,"",SUMIFS(Ouput_table!$S$2:$S$99,Ouput_table!$I$2:$I$99,Summary_species!G14,Ouput_table!$T$2:$T$99,">0")) | M14: =IF(LEN(G14)<2,"",((K14-L14)/(K14)))
D15: =IF(LEN(G15)<2,"",COUNTIFS(Ouput_table!$I$2:$I$99,Summary_species!G15,Ouput_table!$T$2:$T$99,0)) | E15: =IF(LEN(G15)<2,"",COUNTIFS(Ouput_table!$I$2:$I$99,Summary_species!G15,Ouput_table!$T$2:$T$99,">0")) | F15: =IF(LEN(G15)<2,"",COUNTIF(Ouput_table!$I$2:$I$100,Summary_species!G15)) | H15: =IF(LEN(G15)<2,"",SUMIF(Ouput_table!$I$2:$I$100,Summary_species!G15,Ouput_table!$N$2:$N$99)) | I15: =IF(LEN(G15)<2,"",SUMIF(Ouput_table!$I$2:$I$100,Summary_species!G15,Ouput_table!$S$2:$S$99)) | J15: =IF(LEN(G15)<2,"",((H15-I15)/(H15))) | K15: =IF(LEN(G15)<2,"",SUMIFS(Ouput_table!$N$2:$N$99,Ouput_table!$I$2:$I$99,Summary_species!G15,Ouput_table!$T$2:$T$99,">0")) | L15: =IF(LEN(G15)<2,"",SUMIFS(Ouput_table!$S$2:$S$99,Ouput_table!$I$2:$I$99,Summary_species!G15,Ouput_table!$T$2:$T$99,">0")) | M15: =IF(LEN(G15)<2,"",((K15-L15)/(K15)))
D16: =IF(LEN(G16)<2,"",COUNTIFS(Ouput_table!$I$2:$I$99,Summary_species!G16,Ouput_table!$T$2:$T$99,0)) | E16: =IF(LEN(G16)<2,"",COUNTIFS(Ouput_table!$I$2:$I$99,Summary_species!G16,Ouput_table!$T$2:$T$99,">0")) | F16: =IF(LEN(G16)<2,"",COUNTIF(Ouput_table!$I$2:$I$100,Summary_species!G16)) | H16: =IF(LEN(G16)<2,"",SUMIF(Ouput_table!$I$2:$I$100,Summary_species!G16,Ouput_table!$N$2:$N$99)) | I16: =IF(LEN(G16)<2,"",SUMIF(Ouput_table!$I$2:$I$100,Summary_species!G16,Ouput_table!$S$2:$S$99)) | J16: =IF(LEN(G16)<2,"",((H16-I16)/(H16))) | K16: =IF(LEN(G16)<2,"",SUMIFS(Ouput_table!$N$2:$N$99,Ouput_table!$I$2:$I$99,Summary_species!G16,Ouput_table!$T$2:$T$99,">0")) | L16: =IF(LEN(G16)<2,"",SUMIFS(Ouput_table!$S$2:$S$99,Ouput_table!$I$2:$I$99,Summary_species!G16,Ouput_table!$T$2:$T$99,">0")) | M16: =IF(LEN(G16)<2,"",((K16-L16)/(K16)))
... D500: =IF(LEN(G500)<2,"",COUNTIFS(Ouput_table!$I$2:$I$99,Summary_species!G500,Ouput_table!$T$2:$T$99,0)) | E500: =IF(LEN(G500)<2,"",COUNTIFS(Ouput_table!$I$2:$I$99,Summary_species!G500,Ouput_table!$T$2:$T$99,">0")) | F500: =IF(LEN(G500)<2,"",COUNTIF(Ouput_table!$I$2:$I$100,Summary_species!G500)) | H500: =IF(LEN(G500)<2,"",SUMIF(Ouput_table!$I$2:$I$100,Summary_species!G500,Ouput_table!$N$2:$N$99)) | I500: =IF(LEN(G500)<2,"",SUMIF(Ouput_table!$I$2:$I$100,Summary_species!G500,Ouput_table!$S$2:$S$99)) | J500: =IF(LEN(G500)<2,"",((H500-I500)/(H500))) | K500: =IF(LEN(G500)<2,"",SUMIFS(Ouput_table!$N$2:$N$99,Ouput_table!$I$2:$I$99,Summary_species!G500,Ouput_table!$T$2:$T$99,">0")) | L500: =IF(LEN(G500)<2,"",SUMIFS(Ouput_table!$S$2:$S$99,Ouput_table!$I$2:$I$99,Summary_species!G500,Ouput_table!$T$2:$T$99,">0")) | M500: =IF(LEN(G500)<2,"",((K500-L500)/(K500)))

Sheet Summary_management_unit
A1: Gross and Net Acres | C1: Totals | D1: =SUM(D3:D500) -> 0 | E1: =SUM(E3:E500) -> 0 | G1: =SUM(G3:G500) -> 0 | H1: =SUM(H3:H500) -> 0 | I1: =IF(G1>0,(G1-H1)/G1,0) -> 0 | J1: =SUM(J3:J500) -> 0 | K1: =SUM(K3:K500) -> 0 | L1: =IF(J1>0,(J1-K1)/J1,0) -> 0
A2: Gross Infested Ac | B2: =SUM(Ouput_table!$K$2:$K$99) -> 0 | D2: Tx_attempts | E2: Count | F2: Mang_unit | G2: Net Ac B4 | H2: Net Ac Aft | I2: % Control | J2: Net Ac B4-Tx | K2: Net Ac Aft-Tx | L2: % Efficacy Tx
A3: Net Infested Ac Before Treatment | B3: =SUM(Ouput_table!$N$2:$N$99) -> 0 | D3: =IF(LEN(F3)<2,"",COUNTIFS(Ouput_table!P:P,F3,Ouput_table!T:T,">0")) | E3: =IF(LEN(F3)<2,"",COUNTIF(Ouput_table!P:P,F3)) | G3: =IF(LEN(F3)<2,"",SUMIF(Ouput_table!P:P,F3,Ouput_table!N:N)) | H3: =IF(LEN(F3)<2,"",SUMIF(Ouput_table!P:P,F3,Ouput_table!S:S)) | I3: =IF(LEN(F3)<2,"",(G3-H3)/G3) | J3: =IF(LEN(F3)<2,"",SUMIFS(Ouput_table!N:N,Ouput_table!P:P,F3,Ouput_table!T:T,">0")) | K3: =IF(LEN(F3)<2,"",SUMIFS(Ouput_table!S:S,Ouput_table!P:P,Summary_species!F4,Ouput_table!T:T,">0")) | L3: =IF(LEN(F3)<2,"",(J3-K3)/J3)
A4: Net Infested Ac After Treatment | B4: =SUM(Ouput_table!$S$2:$S$99) -> 0 | D4: =IF(LEN(F4)<2,"",COUNTIFS(Ouput_table!P:P,F4,Ouput_table!T:T,">0")) | E4: =IF(LEN(F4)<2,"",COUNTIF(Ouput_table!P:P,F4)) | G4: =IF(LEN(F4)<2,"",SUMIF(Ouput_table!P:P,F4,Ouput_table!N:N)) | H4: =IF(LEN(F4)<2,"",SUMIF(Ouput_table!P:P,F4,Ouput_table!S:S)) | I4: =IF(LEN(F4)<2,"",(G4-H4)/G4) | J4: =IF(LEN(F4)<2,"",SUMIFS(Ouput_table!N:N,Ouput_table!P:P,F4,Ouput_table!T:T,">0")) | K4: =IF(LEN(F4)<2,"",SUMIFS(Ouput_table!S:S,Ouput_table!P:P,Summary_species!F5,Ouput_table!T:T,">0")) | L4: =IF(LEN(F4)<2,"",(J4-K4)/J4)
D5: =IF(LEN(F5)<2,"",COUNTIFS(Ouput_table!P:P,F5,Ouput_table!T:T,">0")) | E5: =IF(LEN(F5)<2,"",COUNTIF(Ouput_table!P:P,F5)) | G5: =IF(LEN(F5)<2,"",SUMIF(Ouput_table!P:P,F5,Ouput_table!N:N)) | H5: =IF(LEN(F5)<2,"",SUMIF(Ouput_table!P:P,F5,Ouput_table!S:S)) | I5: =IF(LEN(F5)<2,"",(G5-H5)/G5) | J5: =IF(LEN(F5)<2,"",SUMIFS(Ouput_table!N:N,Ouput_table!P:P,F5,Ouput_table!T:T,">0")) | K5: =IF(LEN(F5)<2,"",SUMIFS(Ouput_table!S:S,Ouput_table!P:P,Summary_species!F6,Ouput_table!T:T,">0")) | L5: =IF(LEN(F5)<2,"",(J5-K5)/J5)
D6: =IF(LEN(F6)<2,"",COUNTIFS(Ouput_table!P:P,F6,Ouput_table!T:T,">0")) | E6: =IF(LEN(F6)<2,"",COUNTIF(Ouput_table!P:P,F6)) | G6: =IF(LEN(F6)<2,"",SUMIF(Ouput_table!P:P,F6,Ouput_table!N:N)) | H6: =IF(LEN(F6)<2,"",SUMIF(Ouput_table!P:P,F6,Ouput_table!S:S)) | I6: =IF(LEN(F6)<2,"",(G6-H6)/G6)
D7: =IF(LEN(F7)<2,"",COUNTIFS(Ouput_table!P:P,F7,Ouput_table!T:T,">0")) | E7: =IF(LEN(F7)<2,"",COUNTIF(Ouput_table!P:P,F7)) | G7: =IF(LEN(F7)<2,"",SUMIF(Ouput_table!P:P,F7,Ouput_table!N:N)) | H7: =IF(LEN(F7)<2,"",SUMIF(Ouput_table!P:P,F7,Ouput_table!S:S)) | I7: =IF(LEN(F7)<2,"",(G7-H7)/G7)
D8: =IF(LEN(F8)<2,"",COUNTIFS(Ouput_table!P:P,F8,Ouput_table!T:T,">0")) | E8: =IF(LEN(F8)<2,"",COUNTIF(Ouput_table!P:P,F8)) | G8: =IF(LEN(F8)<2,"",SUMIF(Ouput_table!P:P,F8,Ouput_table!N:N)) | H8: =IF(LEN(F8)<2,"",SUMIF(Ouput_table!P:P,F8,Ouput_table!S:S)) | I8: =IF(LEN(F8)<2,"",(G8-H8)/G8)
D9: =IF(LEN(F9)<2,"",COUNTIFS(Ouput_table!P:P,F9,Ouput_table!T:T,">0")) | E9: =IF(LEN(F9)<2,"",COUNTIF(Ouput_table!P:P,F9)) | G9: =IF(LEN(F9)<2,"",SUMIF(Ouput_table!P:P,F9,Ouput_table!N:N)) | H9: =IF(LEN(F9)<2,"",SUMIF(Ouput_table!P:P,F9,Ouput_table!S:S)) | I9: =IF(LEN(F9)<2,"",(G9-H9)/G9)
D10: =IF(LEN(F10)<2,"",COUNTIFS(Ouput_table!P:P,F10,Ouput_table!T:T,">0")) | E10: =IF(LEN(F10)<2,"",COUNTIF(Ouput_table!P:P,F10)) | G10: =IF(LEN(F10)<2,"",SUMIF(Ouput_table!P:P,F10,Ouput_table!N:N)) | H10: =IF(LEN(F10)<2,"",SUMIF(Ouput_table!P:P,F10,Ouput_table!S:S)) | I10: =IF(LEN(F10)<2,"",(G10-H10)/G10)
D11: =IF(LEN(F11)<2,"",COUNTIFS(Ouput_table!P:P,F11,Ouput_table!T:T,">0")) | E11: =IF(LEN(F11)<2,"",COUNTIF(Ouput_table!P:P,F11)) | G11: =IF(LEN(F11)<2,"",SUMIF(Ouput_table!P:P,F11,Ouput_table!N:N)) | H11: =IF(LEN(F11)<2,"",SUMIF(Ouput_table!P:P,F11,Ouput_table!S:S)) | I11: =IF(LEN(F11)<2,"",(G11-H11)/G11)
D12: =IF(LEN(F12)<2,"",COUNTIFS(Ouput_table!P:P,F12,Ouput_table!T:T,">0")) | E12: =IF(LEN(F12)<2,"",COUNTIF(Ouput_table!P:P,F12)) | G12: =IF(LEN(F12)<2,"",SUMIF(Ouput_table!P:P,F12,Ouput_table!N:N)) | H12: =IF(LEN(F12)<2,"",SUMIF(Ouput_table!P:P,F12,Ouput_table!S:S)) | I12: =IF(LEN(F12)<2,"",(G12-H12)/G12)

Sheet Lookup_Tables
A2: 2) Area of infestation (Alpha-numeric) | B2: 2) Area of infestation (Numeric)
A3: 0.001 acres (2 large desks) | B3: 0.001
A4: 0.01 acres (2-car garage) | B4: 0.01
A5: 0.1 acres (1 basketball court) | B5: 0.1
A6: 0.25 acres (4 tennis courts) | B6: 0.25
A7: 0.5 acres (1/2 of a football field) | B7: 0.5
A8: 1.0 acres (1 football field) | B8: 1
A9: Other (type in Description field) | B9: Manually enter from Description field on Original_Data
A11: 3) Total coverage (alive & dead) (Alpha-numeric) | B11: 3) Total coverage (alive & dead) (Numeric mid-point)
A12: 1) <1% | B12: 0.005
A13: 2) 1-5% | B13: 0.03
A14: 3) 6-25% | B14: 0.15
A15: 4) 26-50% | B15: 0.375
A16: 5) 51-75% | B16: 0.625
A17: 6) 76-95% | B17: 0.85
A18: 7) 96-100% | B18: 0.975
A20: 4) Coverage of live plants (Alpha-numeric) | B20: 4) Coverage of live plants Numeric)
A21: 1) 0% | B21: 0
A22: 2) <1% | B22: 0.005
A23: 3) 1-5% | B23: 0.03
A24: 4) 6-25% | B24: 0.15
A25: 5) 26-50% | B25: 0.375
A26: 6) 51-75% | B26: 0.625
A27: 7) 76-95% | B27: 0.85
A28: 8) 96-100% | B28: 0.975

Sheet Avenza_Schema_Ref
A1: id | B1: name | C1: name2 | D1: type | E1: ns1:displayName | F1: schemaUrl | G1: ns2:field | H1: ns2:picklistvalue | I1: ns1:styleUrl | J1: ns1:name | K1: schemaUrl3 | L1: id4 | M1: ns1:color | N1: ns1:href | O1: x | P1: xunits | Q1: y | R1: yunits | S1: ns1:color5 | T1: ns1:width | U1: ns1:color6
A2: schema0 | B2: schema0 | C2: Description | D2: string | I2: #style0 | J2: FWC Invasive Species Inspection | K2: #schema0 | L2: style0 | M2: ff0095ff | N2: http://download.avenza.com/images/pdfmaps_icons/pin-green-inground.png | O2: 0.5 | P2: fraction | Q2: 0.5 | R2: fraction | S2: ff0095ff | T2: 4 | U2: ff0095ff
A3: schema0 | B3: schema0 | C3: pdfmaps_photos | D3: string | E3: Photos | I3: #style0 | J3: FWC Invasive Species Inspection | K3: #schema0 | L3: style0 | M3: ff0095ff | N3: http://download.avenza.com/images/pdfmaps_icons/pin-green-inground.png | O3: 0.5 | P3: fraction | Q3: 0.5 | R3: fraction | S3: ff0095ff | T3: 4 | U3: ff0095ff
A4: schema0 | B4: schema0 | C4: 1) Species | D4: string | I4: #style0 | J4: FWC Invasive Species Inspection | K4: #schema0 | L4: style0 | M4: ff0095ff | N4: http://download.avenza.com/images/pdfmaps_icons/pin-green-inground.png | O4: 0.5 | P4: fraction | Q4: 0.5 | R4: fraction | S4: ff0095ff | T4: 4 | U4: ff0095ff
A5: schema0 | B5: schema0 | C5: 2) Area of infestation | D5: string | I5: #style0 | J5: FWC Invasive Species Inspection | K5: #schema0 | L5: style0 | M5: ff0095ff | N5: http://download.avenza.com/images/pdfmaps_icons/pin-green-inground.png | O5: 0.5 | P5: fraction | Q5: 0.5 | R5: fraction | S5: ff0095ff | T5: 4 | U5: ff0095ff
A6: schema0 | B6: schema0 | C6: 3) Total coverage (alive & dead) | D6: string | I6: #style0 | J6: FWC Invasive Species Inspection | K6: #schema0 | L6: style0 | M6: ff0095ff | N6: http://download.avenza.com/images/pdfmaps_icons/pin-green-inground.png | O6: 0.5 | P6: fraction | Q6: 0.5 | R6: fraction | S6: ff0095ff | T6: 4 | U6: ff0095ff
A7: schema0 | B7: schema0 | C7: 4) Coverage of live plants | D7: string | I7: #style0 | J7: FWC Invasive Species Inspection | K7: #schema0 | L7: style0 | M7: ff0095ff | N7: http://download.avenza.com/images/pdfmaps_icons/pin-green-inground.png | O7: 0.5 | P7: fraction | Q7: 0.5 | R7: fraction | S7: ff0095ff | T7: 4 | U7: ff0095ff
F8: schema0 | G8: 1) Species | H8: *Other (type in Description field) | I8: #style0 | J8: FWC Invasive Species Inspection | K8: #schema0 | L8: style0 | M8: ff0095ff | N8: http://download.avenza.com/images/pdfmaps_icons/pin-green-inground.png | O8: 0.5 | P8: fraction | Q8: 0.5 | R8: fraction | S8: ff0095ff | T8: 4 | U8: ff0095ff
F9: schema0 | G9: 1) Species | H9: Air-potato (Dioscorea bulbifera) | I9: #style0 | J9: FWC Invasive Species Inspection | K9: #schema0 | L9: style0 | M9: ff0095ff | N9: http://download.avenza.com/images/pdfmaps_icons/pin-green-inground.png | O9: 0.5 | P9: fraction | Q9: 0.5 | R9: fraction | S9: ff0095ff | T9: 4 | U9: ff0095ff
F10: schema0 | G10: 1) Species | H10: Australian Pine (Casuarina equisetifolia) | I10: #style0 | J10: FWC Invasive Species Inspection | K10: #schema0 | L10: style0 | M10: ff0095ff | N10: http://download.avenza.com/images/pdfmaps_icons/pin-green-inground.png | O10: 0.5 | P10: fraction | Q10: 0.5 | R10: fraction | S10: ff0095ff | T10: 4 | U10: ff0095ff
F11: schema0 | G11: 1) Species | H11: Brazilian Pepper (Schinus terebinthifolia) | I11: #style0 | J11: FWC Invasive Species Inspection | K11: #schema0 | L11: style0 | M11: ff0095ff | N11: http://download.avenza.com/images/pdfmaps_icons/pin-green-inground.png | O11: 0.5 | P11: fraction | Q11: 0.5 | R11: fraction | S11: ff0095ff | T11: 4 | U11: ff0095ff
F12: schema0 | G12: 1) Species | H12: Camphor Tree (Cinnamomum camphor) | I12: #style0 | J12: FWC Invasive Species Inspection | K12: #schema0 | L12: style0 | M12: ff0095ff | N12: http://download.avenza.com/images/pdfmaps_icons/pin-green-inground.png | O12: 0.5 | P12: fraction | Q12: 0.5 | R12: fraction | S12: ff0095ff | T12: 4 | U12: ff0095ff
F13: schema0 | G13: 1) Species | H13: Chinaberry (Melia azedarach) | I13: #style0 | J13: FWC Invasive Species Inspection | K13: #schema0 | L13: style0 | M13: ff0095ff | N13: http://download.avenza.com/images/pdfmaps_icons/pin-green-inground.png | O13: 0.5 | P13: fraction | Q13: 0.5 | R13: fraction | S13: ff0095ff | T13: 4 | U13: ff0095ff
F14: schema0 | G14: 1) Species | H14: Chinese Privet (Ligustrum sinense) | I14: #style0 | J14: FWC Invasive Species Inspection | K14: #schema0 | L14: style0 | M14: ff0095ff | N14: http://download.avenza.com/images/pdfmaps_icons/pin-green-inground.png | O14: 0.5 | P14: fraction | Q14: 0.5 | R14: fraction | S14: ff0095ff | T14: 4 | U14: ff0095ff
F15: schema0 | G15: 1) Species | H15: Chinese Tallow Tree (Triadica sebifera) | I15: #style0 | J15: FWC Invasive Species Inspection | K15: #schema0 | L15: style0 | M15: ff0095ff | N15: http://download.avenza.com/images/pdfmaps_icons/pin-green-inground.png | O15: 0.5 | P15: fraction | Q15: 0.5 | R15: fraction | S15: ff0095ff | T15: 4 | U15: ff0095ff
F16: schema0 | G16: 1) Species | H16: Cogon Grass (Imperata cylindrica) | I16: #style0 | J16: FWC Invasive Species Inspection | K16: #schema0 | L16: style0 | M16: ff0095ff | N16: http://download.avenza.com/images/pdfmaps_icons/pin-green-inground.png | O16: 0.5 | P16: fraction | Q16: 0.5 | R16: fraction | S16: ff0095ff | T16: 4 | U16: ff0095ff
F17: schema0 | G17: 1) Species | H17: Coral Ardisia (Ardisia crenata) | I17: #style0 | J17: FWC Invasive Species Inspection | K17: #schema0 | L17: style0 | M17: ff0095ff | N17: http://download.avenza.com/images/pdfmaps_icons/pin-green-inground.png | O17: 0.5 | P17: fraction | Q17: 0.5 | R17: fraction | S17: ff0095ff | T17: 4 | U17: ff0095ff
F18: schema0 | G18: 1) Species | H18: Downy Rose Myrtle (Rhodomyrtus tomentosa) | I18: #style0 | J18: FWC Invasive Species Inspection | K18: #schema0 | L18: style0 | M18: ff0095ff | N18: http://download.avenza.com/images/pdfmaps_icons/pin-green-inground.png | O18: 0.5 | P18: fraction | Q18: 0.5 | R18: fraction | S18: ff0095ff | T18: 4 | U18: ff0095ff
F19: schema0 | G19: 1) Species | H19: Earleaf Acacia (Acacia auriculiformis) | I19: #style0 | J19: FWC Invasive Species Inspection | K19: #schema0 | L19: style0 | M19: ff0095ff | N19: http://download.avenza.com/images/pdfmaps_icons/pin-green-inground.png | O19: 0.5 | P19: fraction | Q19: 0.5 | R19: fraction | S19: ff0095ff | T19: 4 | U19: ff0095ff
... F60: schema0 | G60: 4) Coverage of live plants | H60: 8) 96-100% | I60: #style0 | J60: FWC Invasive Species Inspection | K60: #schema0 | L60: style0 | M60: ff0095ff | N60: http://download.avenza.com/images/pdfmaps_icons/pin-green-inground.png | O60: 0.5 | P60: fraction | Q60: 0.5 | R60: fraction | S60: ff0095ff | T60: 4 | U60: ff0095ff

Sheet Example...
A1: Title | B1: Date created | C1: Latitude | D1: Longitude | E1: Northing | F1: Easting | G1: Description | H1: Elevation | I1: 1) Species | J1: 2) Area of infestation | K1: 3) Total coverage (alive & dead) | L1: 4) Coverage of live plants | M1: 5) Management Unit/Zone | N1: 6) Project Number
A2: Placemark 1 | B2: 2021-07-14T12:08:52-04:00 | C2: 30.453589 | D2: -84.27934 | E2: 716256.34 | F2: 373199.15 | H2: 16.616615 | I2: Air-potato (Dioscorea bulbifera) | J2: 0.1 acres (1 basketball court) | K2: 7) 96-100% | L2: 8) 96-100% | M2: Unit 2B | N2: SW-217
A3: Placemark 2 | B3: 2021-07-14T12:08:52-04:01 | C3: 30.190267 | D3: -83.52364 | E3: 716328.2 | F3: 373220.13 | H3: 16.616715 | I3: Cogon Grass (Imperata cylindrica) | J3: 0.01 acres (2-car garage) | K3: 5) 51-75% | L3: 6) 51-75% | M3: Unit 2B | N3: SW-217
A4: Placemark 3 | B4: 2021-07-14T12:08:52-04:02 | C4: 30.162795 | D4: -84.151292 | E4: 716318.13 | F4: 373263.28 | H4: 28.56625 | I4: Brazilian Pepper (Schinus terebinthifolia) | J4: 0.001 acres (2 large desks) | K4: 6) 76-95% | L4: 4) 6-25% | M4: Unit 2B | N4: SW-217
A5: Placemark 4 | B5: 2021-07-14T12:08:52-04:03 | C5: 30.382097 | D5: -84.261374 | E5: 716333.55 | F5: 373263.72 | H5: 18.409163 | I5: Old World Climbing Fern (Lygodium microphyllum) | J5: 0.001 acres (2 large desks) | K5: 5) 51-75% | L5: 1) 0% | M5: Unit 2B | N5: SW-217
A6: Placemark 5 | B6: 2021-07-14T12:08:52-04:04 | C6: 30.475616 | D6: -84.923673 | E6: 716275.61 | F6: 373275.94 | H6: 20.616615 | I6: Brazilian Pepper (Schinus terebinthifolia) | J6: 0.01 acres (2-car garage) | K6: 4) 26-50% | L6: 1) 0% | M6: Unit 2B | N6: SW-217
A7: Placemark 6 | B7: 2021-07-14T12:08:52-04:05 | C7: 29.838039 | D7: -84.665305 | E7: 716330.5 | F7: 373226.6 | H7: 15.715698 | I7: Old World Climbing Fern (Lygodium microphyllum) | J7: 0.001 acres (2 large desks) | K7: 3) 6-25% | L7: 4) 6-25% | M7: Unit 2B | N7: SW-217
A8: Placemark 7 | B8: 2021-07-14T12:08:52-04:06 | C8: 30.822179 | D8: -83.825357 | E8: 716294.37 | F8: 373241.91 | H8: 11.576 | I8: Cogon Grass (Imperata cylindrica) | J8: 0.01 acres (2-car garage) | K8: 5) 51-75% | L8: 2) <1% | M8: Unit 2B | N8: SW-217
A9: Placemark 8 | B9: 2021-07-14T12:08:52-04:07 | C9: 30.299186 | D9: -83.776512 | E9: 716342.43 | F9: 373275.03 | H9: 29.56625 | I9: Brazilian Pepper (Schinus terebinthifolia) | J9: 0.01 acres (2-car garage) | K9: 5) 51-75% | L9: 1) 0% | M9: Unit 2B | N9: SW-217
A10: Placemark 9 | B10: 2021-07-14T12:08:52-04:08 | C10: 30.458843 | D10: -84.009785 | E10: 716303.31 | F10: 373236.32 | H10: 15.715698 | I10: Cogon Grass (Imperata cylindrica) | J10: 0.25 acres (4 tennis courts) | K10: 4) 26-50% | L10: 2) <1% | M10: Unit 2B | N10: SW-217
A11: Placemark 10 | B11: 2021-07-14T12:08:52-04:09 | C11: 30.69597 | D11: -84.418799 | E11: 716272.52 | F11: 373243.61 | H11: 26.56625 | I11: Old World Climbing Fern (Lygodium microphyllum) | J11: 0.01 acres (2-car garage) | K11: 6) 76-95% | L11: 3) 1-5% | M11: Unit 2B | N11: SW-217
A12: Placemark 11 | B12: 2021-07-14T12:08:52-04:10 | C12: 30.745599 | D12: -84.041774 | E12: 716272.6 | F12: 373257.52 | H12: 16.616615 | I12: Old World Climbing Fern (Lygodium microphyllum) | J12: 0.1 acres (1 basketball court) | K12: 5) 51-75% | L12: 2) <1% | M12: Unit 2B | N12: SW-217
A13: Placemark 12 | B13: 2021-07-14T12:08:52-04:11 | C13: 29.746543 | D13: -84.677589 | E13: 716292.84 | F13: 373201.03 | H13: 16.35212 | I13: Cogon Grass (Imperata cylindrica) | J13: 0.25 acres (4 tennis courts) | K13: 2) 1-5% | L13: 3) 1-5% | M13: Unit 2B | N13: SW-217
... A25: Placemark 24 | B25: 2021-07-14T12:08:52-04:23 | C25: 30.468484 | D25: -84.145094 | E25: 716311.63 | F25: 373201.39 | H25: 11.576 | I25: Old World Climbing Fern (Lygodium microphyllum) | J25: 0.001 acres (2 large desks) | K25: 7) 96-100% | L25: 1) 0% | M25: Unit 2D | N25: SW-217
A26: Placemark 25 | B26: 2021-07-14T12:08:52-04:24 | C26: 29.716527 | D26: -83.938133 | E26: 716276.32 | F26: 373288.08 | G26: Egger's nutrush | H26: 22.56625 | I26: *Other (type in Description field) | J26: 0.001 acres (2 large desks) | K26: 2) 1-5% | L26: 2) <1% | M26: Unit 2D | N26: SW-217
